BEGIN:VCALENDAR
VERSION:2.0
PRODID:-//PGH NTMA - ECPv6.15.20//NONSGML v1.0//EN
CALSCALE:GREGORIAN
METHOD:PUBLISH
X-ORIGINAL-URL:https://pghntma.org
X-WR-CALDESC:Events for PGH NTMA
REFRESH-INTERVAL;VALUE=DURATION:PT1H
X-Robots-Tag:noindex
X-PUBLISHED-TTL:PT1H
BEGIN:VTIMEZONE
TZID:America/New_York
BEGIN:DAYLIGHT
TZOFFSETFROM:-0500
TZOFFSETTO:-0400
TZNAME:EDT
DTSTART:20250309T070000
END:DAYLIGHT
BEGIN:STANDARD
TZOFFSETFROM:-0400
TZOFFSETTO:-0500
TZNAME:EST
DTSTART:20251102T060000
END:STANDARD
BEGIN:DAYLIGHT
TZOFFSETFROM:-0500
TZOFFSETTO:-0400
TZNAME:EDT
DTSTART:20260308T070000
END:DAYLIGHT
BEGIN:STANDARD
TZOFFSETFROM:-0400
TZOFFSETTO:-0500
TZNAME:EST
DTSTART:20261101T060000
END:STANDARD
BEGIN:DAYLIGHT
TZOFFSETFROM:-0500
TZOFFSETTO:-0400
TZNAME:EDT
DTSTART:20270314T070000
END:DAYLIGHT
BEGIN:STANDARD
TZOFFSETFROM:-0400
TZOFFSETTO:-0500
TZNAME:EST
DTSTART:20271107T060000
END:STANDARD
END:VTIMEZONE
BEGIN:VEVENT
DTSTART;TZID=America/New_York:20260223T080000
DTEND;TZID=America/New_York:20260223T110000
DTSTAMP:20260419T094918
CREATED:20260107T164138Z
LAST-MODIFIED:20260107T164142Z
UID:3129-1771833600-1771844400@pghntma.org
SUMMARY:Pitt IEE: State of the Pittsburgh Economy co-hosted with PNC Bank
DESCRIPTION:with PNC’s Lou Cestello and Gus Faucher\, plus other regional community leaders. \n\n\n\nJoin us for our annual look into the regional economic climate and the 2026 economic forecast. PNC’s SVP & ChiefEconomist Gus Faucher will guide us through key economic indicators that impact our region’s businesses. PNC President Lou Cestello will provide remarks along with local officials\, community and economic leaders\, and more. \n\n\n\n5 spots for NTMA members at all IEE Educational programs and networking events are reserved. To claim your spot\, contact Tara Gerek directly at tgerek@innovation.pitt.edu.
URL:https://pghntma.org/happening/pitt-iee-state-of-the-pittsburgh-economy-co-hosted-with-pnc-bank/
LOCATION:The James E Rohr Auditorium\, 300 Fifth Avenue\, Pittsburgh\, Pennsylvania\, 15222\, United States
END:VEVENT
BEGIN:VEVENT
DTSTART;TZID=America/New_York:20260225T080000
DTEND;TZID=America/New_York:20260225T160000
DTSTAMP:20260419T094918
CREATED:20251215T115119Z
LAST-MODIFIED:20251215T115128Z
UID:3101-1772006400-1772035200@pghntma.org
SUMMARY:Robotic Machine Tending: Free Manufacturer Workshop
DESCRIPTION:Join the ARM Institute’s Robotics Manufacturing Hub and Catalyst Connection on February 25 for a free workshop exploring machine tending! Note that breakfast & lunch will be provided at no cost.  \n\n\n\nSpace is limited – reserve your spot today!
URL:https://pghntma.org/happening/robotic-machine-tending-free-manufacturer-workshop/
LOCATION:ARM Institute\, 4501 Lytle Street\, Pittsburgh\, Pennsylvania\, 15207\, United States
END:VEVENT
BEGIN:VEVENT
DTSTART;TZID=America/New_York:20260227T110000
DTEND;TZID=America/New_York:20260227T130000
DTSTAMP:20260419T094918
CREATED:20260105T183407Z
LAST-MODIFIED:20260105T183414Z
UID:3115-1772190000-1772197200@pghntma.org
SUMMARY:From Application to Award: Mini-Grant Workshop (Virtual & In-Person) for Manufacturers
DESCRIPTION:Catalyst Connection will be hosting a workshop (virtual and in-person) to provide information about their mini-grant program (up to $10\,000/manufacturer) to support business growth and operational improvements.  At this workshop\, you’ll learn how to access these funds\, explore project options\, and hear how more than 100 manufacturers in our region have already put this opportunity to work. \n\n\n\nIn-person: JARI Center (160 Jari Drive\, Johnstown\, PA 15904) \n\n\n\nVirtual Option Available too! \n\n\n\nRegistration is required.
URL:https://pghntma.org/happening/from-application-to-award-mini-grant-workshop-virtual-in-person-for-manufacturers/
LOCATION:Pennsylvania
END:VEVENT
BEGIN:VEVENT
DTSTART;TZID=America/New_York:20260227T120000
DTEND;TZID=America/New_York:20260227T130000
DTSTAMP:20260419T094918
CREATED:20260209T220226Z
LAST-MODIFIED:20260209T220451Z
UID:3159-1772193600-1772197200@pghntma.org
SUMMARY:Webinar: One Voice in Washington: Public Policy Update
DESCRIPTION:Join PMA and NTMA’s Washington\, D.C.-based One Voice advocacy team on Friday\, February 27 at 12:00 p.m. ET for a webinar on the latest public policy developments affecting the industry.
URL:https://pghntma.org/happening/one-voice-webinar/
LOCATION:Pennsylvania
END:VEVENT
END:VCALENDAR