BEGIN:VCALENDAR
VERSION:2.0
PRODID:-//PGH NTMA - ECPv6.15.20//NONSGML v1.0//EN
CALSCALE:GREGORIAN
METHOD:PUBLISH
X-ORIGINAL-URL:https://pghntma.org
X-WR-CALDESC:Events for PGH NTMA
REFRESH-INTERVAL;VALUE=DURATION:PT1H
X-Robots-Tag:noindex
X-PUBLISHED-TTL:PT1H
BEGIN:VTIMEZONE
TZID:America/New_York
BEGIN:DAYLIGHT
TZOFFSETFROM:-0500
TZOFFSETTO:-0400
TZNAME:EDT
DTSTART:20240310T070000
END:DAYLIGHT
BEGIN:STANDARD
TZOFFSETFROM:-0400
TZOFFSETTO:-0500
TZNAME:EST
DTSTART:20241103T060000
END:STANDARD
BEGIN:DAYLIGHT
TZOFFSETFROM:-0500
TZOFFSETTO:-0400
TZNAME:EDT
DTSTART:20250309T070000
END:DAYLIGHT
BEGIN:STANDARD
TZOFFSETFROM:-0400
TZOFFSETTO:-0500
TZNAME:EST
DTSTART:20251102T060000
END:STANDARD
BEGIN:DAYLIGHT
TZOFFSETFROM:-0500
TZOFFSETTO:-0400
TZNAME:EDT
DTSTART:20260308T070000
END:DAYLIGHT
BEGIN:STANDARD
TZOFFSETFROM:-0400
TZOFFSETTO:-0500
TZNAME:EST
DTSTART:20261101T060000
END:STANDARD
END:VTIMEZONE
BEGIN:VEVENT
DTSTART;TZID=America/New_York:20251007T180000
DTEND;TZID=America/New_York:20251010T100000
DTSTAMP:20260419T160804
CREATED:20250630T201220Z
LAST-MODIFIED:20250630T201222Z
UID:2903-1759860000-1760090400@pghntma.org
SUMMARY:Engage 2025 Conference
DESCRIPTION:NTMA’s signature event is not to be missed! Engage 2025\, The Precision Manufacturing Conference pulls together everything great about NTMA into three days packed with networking\, advocacy\, and learning.  You’ll enjoy nationally acclaimed speakers\, roundtable discussions\, social events\, and breakout sessions designed to educate and inspire. Join us as we build on NTMA’s long legacy of providing precision manufacturers and industry leaders with the invaluable experience of gathering together to network\, learn and advocate for the advancement and future of the industry. \n\n\n\nThe conference will be taking place at the Westin Book Cadillac Detroit.  \n\n\n\nNTMA Hotel Rate: $249++Book your Hotel Room Here!*Hotel Deadline is 9/17/2025 or based on availability \n\n\n\nRegistration Rates:Early Bird Rate (now – 7/31): $995 Standard Rate (8/31 – 9/17): $1395Late Registration (9/18 – 10/7): $1695 \n\n\n\n\n\n\n\nHave questions? Contact Kristen Hrusch (khrusch@ntma.org).
URL:https://pghntma.org/happening/engage-2025-conference/
LOCATION:Pennsylvania
ATTACH;FMTTYPE=image/png:https://pghntma.org/wp-content/uploads/2025/06/Engage-2025.png
END:VEVENT
BEGIN:VEVENT
DTSTART;TZID=America/New_York:20251016T150000
DTEND;TZID=America/New_York:20251016T180000
DTSTAMP:20260419T160804
CREATED:20250627T134259Z
LAST-MODIFIED:20250821T181706Z
UID:2849-1760626800-1760637600@pghntma.org
SUMMARY:Thomas on Tap at the Moonshot Museum
DESCRIPTION:Join us for an exclusive event at the Moonshot Museum as the Pittsburgh Chapter NTMA and Thomas bring together regional manufacturing leaders to explore the future of industry and innovation. Hear directly from Astrobotic Technology about their groundbreaking work in space robotics and enjoy a fireside chat with Thomas on valuable insights to help your business stand out and succeed. \n\n\n\nEnjoy networking\, refreshments\, and time to explore the Moonshot Museum as we celebrate the dynamic intersection of technology\, innovation\, and manufacturing in southwestern Pennsylvania. \n\n\n\nAgenda:  \n\n\n\n\n3:00 – Doors Open\n\n\n\n3:30 – Welcome remarks from the Pittsburgh Chapter NTMA\, Thomas\, Astrobotic Technology\n\n\n\n3:45 – Thomas Fireside Chat \n\n\n\n4:15 – Explore the exhibits & network with your peers\n\n\n\n6:00 – Drive home safe!\n\n\n\n\n\n\n\n\nCost: Members – $35\, Non-Members – $50 \n\n\n\nAbout the Moonshot Museum: The Moonshot Museum offers an unprecedented opportunity to get up close and behind the scenes of the 21st century space industry. Pittsburgh’s spacecraft are built right here\, on view for all guests to witness.  \n\n\n\nAbout Astrobotic Technology: Astrobotic is a pioneering space exploration company aiming to make space accessible to the world. Our technical expertise ranges from designing and manufacturing lunar landers and rovers to creating power infrastructure networks to terrestrial rockets and rocket testbeds. From the Moonshot Museum\, you will get a close up look into Astrobotic’s clean room where they are assembling the Griffin Lunar Lander\, which is destined to reach the Moon’s South Pole later this year. \n\n\n\nAbout Thomas: Thomas is the leading platform connecting industrial buyers\, engineers\, and procurement professionals with North American industrial suppliers for 125+ years. Thomas offers sourcing tools\, supplier discovery in 80\,000+ industrial categories\, product catalogs\, and premium marketing and advertising strategies and solutions for manufacturers and distributors.
URL:https://pghntma.org/happening/ntma-thomas-moonshot-museum/
LOCATION:Moonshot Museum\, 1016 N Lincoln Avenue\, Pittsburgh\, 15233
END:VEVENT
END:VCALENDAR