BEGIN:VCALENDAR
VERSION:2.0
PRODID:-//PGH NTMA - ECPv6.15.20//NONSGML v1.0//EN
CALSCALE:GREGORIAN
METHOD:PUBLISH
X-WR-CALNAME:PGH NTMA
X-ORIGINAL-URL:https://pghntma.org
X-WR-CALDESC:Events for PGH NTMA
REFRESH-INTERVAL;VALUE=DURATION:PT1H
X-Robots-Tag:noindex
X-PUBLISHED-TTL:PT1H
BEGIN:VTIMEZONE
TZID:America/New_York
BEGIN:DAYLIGHT
TZOFFSETFROM:-0500
TZOFFSETTO:-0400
TZNAME:EDT
DTSTART:20240310T070000
END:DAYLIGHT
BEGIN:STANDARD
TZOFFSETFROM:-0400
TZOFFSETTO:-0500
TZNAME:EST
DTSTART:20241103T060000
END:STANDARD
BEGIN:DAYLIGHT
TZOFFSETFROM:-0500
TZOFFSETTO:-0400
TZNAME:EDT
DTSTART:20250309T070000
END:DAYLIGHT
BEGIN:STANDARD
TZOFFSETFROM:-0400
TZOFFSETTO:-0500
TZNAME:EST
DTSTART:20251102T060000
END:STANDARD
BEGIN:DAYLIGHT
TZOFFSETFROM:-0500
TZOFFSETTO:-0400
TZNAME:EDT
DTSTART:20260308T070000
END:DAYLIGHT
BEGIN:STANDARD
TZOFFSETFROM:-0400
TZOFFSETTO:-0500
TZNAME:EST
DTSTART:20261101T060000
END:STANDARD
END:VTIMEZONE
BEGIN:VEVENT
DTSTART;TZID=America/New_York:20250625T083000
DTEND;TZID=America/New_York:20250625T103000
DTSTAMP:20260419T172440
CREATED:20250610T223359Z
LAST-MODIFIED:20250610T223401Z
UID:2833-1750840200-1750847400@pghntma.org
SUMMARY:Made to Grow: Tools for American Manufacturers
DESCRIPTION:Manufacturers are invited to an informative free in-person workshop titled “Made to Grow: Tools for American Manufacturers.” Hosted by the U.S. Small Business Administration\, this event focuses on the Made in America Initiative\, providing valuable insights into federal programs designed to support and scale domestic production. \n\n\n\nAttendees will learn how to tap into resources that can help strengthen their operations—from funding opportunities to supply chain strategies—empowering American manufacturers to grow and thrive in today’s competitive marketplace. \n\n\n\nGroup discussion to follow workshop. Stay after the event to continue the conversation regarding challenges and opportunities facing American manufacturing.
URL:https://pghntma.org/happening/made-to-grow-tools-for-american-manufacturers/
LOCATION:SBA Western PA District Office\, 3 Parkway Center\, Suite 375\, Greentree\, Pennsylvania\, 15220\, United States
END:VEVENT
BEGIN:VEVENT
DTSTART;TZID=America/New_York:20250623T090000
DTEND;TZID=America/New_York:20250623T170000
DTSTAMP:20260419T172440
CREATED:20250201T152719Z
LAST-MODIFIED:20250610T223151Z
UID:2703-1750669200-1750698000@pghntma.org
SUMMARY:Pittsburgh Chapter NTMF Manufacturing Open 2025
DESCRIPTION:Since 1996 the Pittsburgh Chapter’s signature golf outing\, The PGH NTMF Manufacturing Open\, has raised thousands of dollars that go directly to manufacturing education in our region through programs like BotsIQ and the Apprentice Training Program. We’re committed to inspiring and educating the next generation of our workforce to keep manufacturing strong in Pittsburgh\, in Pennsylvania and in America. \n\n\n\n2025 Agenda: \n\n\n\n9:30 AM – 10:30 AM: Registration (arrive at your convenience) Once registered\, golfers are free to use locker room facilities and putting green (weather permitting). \n\n\n\n11:00 AM: Shotgun Start – Scramble format: details on the cart. Each team must turn in a scorecard to the pro shop to be eligible for prizes: First Prize\, Second Prize\, Third Prize and Most Honest. Boxed lunches enjoyed in the cart. Complimentary beer\, water\, and snacks will be available on the course. \n\n\n\n4:00 PM – CASH Bar\, Networking\, Dinner & Awards \n\n\n\n\n\n\nLearn more
URL:https://pghntma.org/happening/pittsburgh-chapter-ntmf-manufacturing-open-2025/
LOCATION:Pennsylvania
END:VEVENT
BEGIN:VEVENT
DTSTART;TZID=America/New_York:20250520T080000
DTEND;TZID=America/New_York:20250520T110000
DTSTAMP:20260419T172440
CREATED:20241122T235423Z
LAST-MODIFIED:20241122T235430Z
UID:2476-1747728000-1747738800@pghntma.org
SUMMARY:ChatGPT\, AI\, and Beyond: Game-changing Technologies that Will Impact Your Industry
DESCRIPTION:Member Event with Gene Marks\, Author (IEE/PantherlabWorks Program) \n\n\n\nYou’ve likely heard about AI tools like ChatGPT\, Microsoft’s Copilot\, Google’s Bard/Duet\, and others that are poised to revolutionize the way we work. As a business leader\, you’re likely considering how to leverage these technologies to boost productivity\, streamline operations\, and improve profitability. But where should you focus your investments? What should you know right now? In this fast-moving\, informative\, and engaging session\, Forbes Technology columnist and consultant \n\n\n\nGene Marks will break down the biggest tech and AI trends that are set to transform industries and provide the insights you need to make the right technology decisions for your business.
URL:https://pghntma.org/happening/chatgpt-ai-and-beyond-game-changing-technologies-that-will-impact-your-industry/
LOCATION:Rivers Club\, 301 Grant Street Suite 411\, Pittsburgh\, Pennsylvania\, 15219\, United States
END:VEVENT
BEGIN:VEVENT
DTSTART;TZID=America/New_York:20250506T133000
DTEND;TZID=America/New_York:20250506T163000
DTSTAMP:20260419T172440
CREATED:20241122T234846Z
LAST-MODIFIED:20241122T234848Z
UID:2470-1746538200-1746549000@pghntma.org
SUMMARY:It’s How We Play the Game: Build a Business. Take a Stand. Make a Difference.
DESCRIPTION:Member Event with Ed Stack\, Chairman\, Dick’s Sporting Goods \n\n\n\nEd\, through his book\, shows how a trailblazing business was created by giving back to the community and by taking principled\, and sometimes controversial\, stands. It’s How We Play the Game tells the story of a complicated founder and an ambitious son—one who transformed a business by making it about more than business\, conceiving it as a force for good in the communities it serves.
URL:https://pghntma.org/happening/its-how-we-play-the-game-build-a-business-take-a-stand-make-a-difference/
LOCATION:Rohr Auditorium @ The Tower at PNC Plaza\, 300 Fifth Avenue\, Pittsburgh\, Pennsylvania\, 15222
END:VEVENT
BEGIN:VEVENT
DTSTART;TZID=America/New_York:20250506T110000
DTEND;TZID=America/New_York:20250506T160000
DTSTAMP:20260419T172440
CREATED:20250402T214329Z
LAST-MODIFIED:20250402T214331Z
UID:2787-1746529200-1746547200@pghntma.org
SUMMARY:Supervisor Peer Network Meeting
DESCRIPTION:Join us for another engaging session where supervisors will connect\, share insights\, and discuss strategies to strengthen leadership and team collaboration. 
URL:https://pghntma.org/happening/supervisor-peer-network-meeting-2/
LOCATION:FS-Elliott\, 5710 Mellon Road\, Export\, Pennsylvania\, 15632\, United States
END:VEVENT
BEGIN:VEVENT
DTSTART;TZID=America/New_York:20250505T140000
DTEND;TZID=America/New_York:20250507T113000
DTSTAMP:20260419T172440
CREATED:20250402T222416Z
LAST-MODIFIED:20250402T222419Z
UID:2790-1746453600-1746617400@pghntma.org
SUMMARY:2025 Emerging Leaders Conference
DESCRIPTION:Join manufacturing’s rising industry leaders to network\, share insights\, and explore innovative manufacturing technologies. Build valuable connections and inspire tomorrow’s manufacturing advancements.
URL:https://pghntma.org/happening/2025-emerging-leaders-conference/
LOCATION:Pennsylvania
END:VEVENT
BEGIN:VEVENT
DTSTART;TZID=America/New_York:20250501T140000
DTEND;TZID=America/New_York:20250501T153000
DTSTAMP:20260419T172440
CREATED:20250107T200148Z
LAST-MODIFIED:20250107T200150Z
UID:2586-1746108000-1746113400@pghntma.org
SUMMARY:Pittsburgh Chapter NTMA/NTMF Board of Directors Meeting
DESCRIPTION:
URL:https://pghntma.org/happening/pittsburgh-chapter-ntma-ntmf-board-of-directors-meeting-2/
LOCATION:Pennsylvania
END:VEVENT
BEGIN:VEVENT
DTSTART;TZID=America/New_York:20250429T090000
DTEND;TZID=America/New_York:20250429T170000
DTSTAMP:20260419T172440
CREATED:20250402T205454Z
LAST-MODIFIED:20250402T221707Z
UID:2785-1745917200-1745946000@pghntma.org
SUMMARY:Robotics for Inspection - FREE Manufacturer Workshop
DESCRIPTION:Join the ARM Institute’s Robotics Manufacturing Hub and Catalyst Connection for a free workshop exploring robotics for visual inspection! \n\n\n\nJoin the ARM Institute’s Robotics Manufacturing Hub and Catalyst Connection for a free workshop exploring robotics for visual inspection on April 29! This workshop is designed specifically for manufacturers and will center on tangible applications of machine vision and robot assisted metrology for inspection tasks. Inspection tasks are ripe for robotics and automation – in this workshop\, you’ll learn how robotics can improve your inspection processes by catching defects\, improving quality and efficiency\, minimizing manual inspection processes\, and more. We will dive into camera types (2D vs 3D)\, lighting\, CMM tending\, robotic laser scanning. software and even how AI works in this application area. \n\n\n\nThrough a combination of expert-led presentations and live demonstrations\, attendees will walk away from our workshop with an understanding about how other manufacturers have adopted robotics for inspection\, the dos and don’ts of adopting robotics and automation\, what’s possible in robotics for inspection\, tangible next steps to get started\, and information about free resources available to Western PA region manufacturers. \n\n\n\nThis is a hybrid event.  Attendees can join in-person at the ARM Institute (Mill 19A\, 4501 Lytle Street\, Suite 200\, Pittsburgh\, PA 15207) or virtually.  \n\n\n\nRegistration is required.
URL:https://pghntma.org/happening/robotics-for-inspection-free-manufacturer-workshop/
LOCATION:ARM Institute\, 4501 Lytle Street\, Pittsburgh\, Pennsylvania\, 15207\, United States
END:VEVENT
BEGIN:VEVENT
DTSTART;TZID=America/New_York:20250425T113000
DTEND;TZID=America/New_York:20250425T123000
DTSTAMP:20260419T172440
CREATED:20250228T111456Z
LAST-MODIFIED:20250228T111459Z
UID:2758-1745580600-1745584200@pghntma.org
SUMMARY:Webinar: Energy Audits: Why Now Is the Best Time
DESCRIPTION:A webinar hosted by Catalyst Connection provides emerging leaders helps them understand the importance of energy audits.
URL:https://pghntma.org/happening/webinar-energy-audits-why-now-is-the-best-time/
LOCATION:Pennsylvania
END:VEVENT
BEGIN:VEVENT
DTSTART;TZID=America/New_York:20250424T080000
DTEND;TZID=America/New_York:20250424T120000
DTSTAMP:20260419T172440
CREATED:20241122T234709Z
LAST-MODIFIED:20241122T234710Z
UID:2468-1745481600-1745496000@pghntma.org
SUMMARY:Family Business Day co-hosted by PNC Bank
DESCRIPTION:Keynote Speaker: Bradley Franc\, Author | Family Business Panel: Turner Dairy Farms \n\n\n\nKeynote: The Succession Solution provides both an explanation of the importance of succession planning\, as well as a practical\, straightforward\, and proven system that can be used to continue your business to the next generation. Brad will show you how to achieve a successful transition to your next generation of leaders. \n\n\n\nPanel: Since 1930\, Turner’s has been producing the freshest\, best-tasting dairy products right here in Western PA. Learn their keys to success by hearing from Turner family leaders.
URL:https://pghntma.org/happening/family-business-day-co-hosted-by-pnc-bank/
LOCATION:Regional Learning Alliance\, 850 Cranberry Woods Drive\, Cranberry Twp.\, Pennsylvania\, 16066\, United States
END:VEVENT
END:VCALENDAR