BEGIN:VCALENDAR
VERSION:2.0
PRODID:-//PGH NTMA - ECPv6.15.20//NONSGML v1.0//EN
CALSCALE:GREGORIAN
METHOD:PUBLISH
X-ORIGINAL-URL:https://pghntma.org
X-WR-CALDESC:Events for PGH NTMA
REFRESH-INTERVAL;VALUE=DURATION:PT1H
X-Robots-Tag:noindex
X-PUBLISHED-TTL:PT1H
BEGIN:VTIMEZONE
TZID:America/New_York
BEGIN:DAYLIGHT
TZOFFSETFROM:-0500
TZOFFSETTO:-0400
TZNAME:EDT
DTSTART:20250309T070000
END:DAYLIGHT
BEGIN:STANDARD
TZOFFSETFROM:-0400
TZOFFSETTO:-0500
TZNAME:EST
DTSTART:20251102T060000
END:STANDARD
BEGIN:DAYLIGHT
TZOFFSETFROM:-0500
TZOFFSETTO:-0400
TZNAME:EDT
DTSTART:20260308T070000
END:DAYLIGHT
BEGIN:STANDARD
TZOFFSETFROM:-0400
TZOFFSETTO:-0500
TZNAME:EST
DTSTART:20261101T060000
END:STANDARD
BEGIN:DAYLIGHT
TZOFFSETFROM:-0500
TZOFFSETTO:-0400
TZNAME:EDT
DTSTART:20270314T070000
END:DAYLIGHT
BEGIN:STANDARD
TZOFFSETFROM:-0400
TZOFFSETTO:-0500
TZNAME:EST
DTSTART:20271107T060000
END:STANDARD
END:VTIMEZONE
BEGIN:VEVENT
DTSTART;TZID=America/New_York:20260622T100000
DTEND;TZID=America/New_York:20260622T180000
DTSTAMP:20260419T114325
CREATED:20260113T144404Z
LAST-MODIFIED:20260218T162451Z
UID:3138-1782122400-1782151200@pghntma.org
SUMMARY:Manufacturing Open 2026 presented by Citizens Bank
DESCRIPTION:Since 1996 the Pittsburgh Chapter’s signature golf outing\, The PGH NTMF Manufacturing Open\, has raised thousands of dollars that go directly to manufacturing education in our region through programs like BotsIQ and the Apprentice Training Program. We’re committed to inspiring and educating the next generation of our workforce to keep manufacturing strong in Pittsburgh\, in Pennsylvania and in America. \n\n\n\n2026 Agenda: \n\n\n\n9:30 AM – 10:30 AM: Registration (arrive at your convenience) Once registered\, golfers are free to use locker room facilities and putting green (weather permitting). \n\n\n\n11:00 AM: Shotgun Start – Scramble format: details on the cart. Each team must turn in a scorecard to the pro shop to be eligible for prizes: First Prize\, Second Prize\, Third Prize and Most Honest. Boxed lunches enjoyed in the cart. Complimentary beer\, water\, and snacks will be available on the course. \n\n\n\n4:00 PM – CASH Bar\, Networking\, Dinner & Awards \n\n\n\nRegistration opens April 20th.
URL:https://pghntma.org/happening/manufacturing-open-2026/
LOCATION:Hill Crest Country Club\, 3411 Leechburg Rd\, Lower Burrell\, Pennsylvania\, 15068\, United States
END:VEVENT
END:VCALENDAR