BEGIN:VCALENDAR
VERSION:2.0
PRODID:-//PGH NTMA - ECPv6.15.20//NONSGML v1.0//EN
CALSCALE:GREGORIAN
METHOD:PUBLISH
X-ORIGINAL-URL:https://pghntma.org
X-WR-CALDESC:Events for PGH NTMA
REFRESH-INTERVAL;VALUE=DURATION:PT1H
X-Robots-Tag:noindex
X-PUBLISHED-TTL:PT1H
BEGIN:VTIMEZONE
TZID:America/New_York
BEGIN:DAYLIGHT
TZOFFSETFROM:-0500
TZOFFSETTO:-0400
TZNAME:EDT
DTSTART:20250309T070000
END:DAYLIGHT
BEGIN:STANDARD
TZOFFSETFROM:-0400
TZOFFSETTO:-0500
TZNAME:EST
DTSTART:20251102T060000
END:STANDARD
BEGIN:DAYLIGHT
TZOFFSETFROM:-0500
TZOFFSETTO:-0400
TZNAME:EDT
DTSTART:20260308T070000
END:DAYLIGHT
BEGIN:STANDARD
TZOFFSETFROM:-0400
TZOFFSETTO:-0500
TZNAME:EST
DTSTART:20261101T060000
END:STANDARD
BEGIN:DAYLIGHT
TZOFFSETFROM:-0500
TZOFFSETTO:-0400
TZNAME:EDT
DTSTART:20270314T070000
END:DAYLIGHT
BEGIN:STANDARD
TZOFFSETFROM:-0400
TZOFFSETTO:-0500
TZNAME:EST
DTSTART:20271107T060000
END:STANDARD
END:VTIMEZONE
BEGIN:VEVENT
DTSTART;TZID=America/New_York:20260428T100000
DTEND;TZID=America/New_York:20260428T190000
DTSTAMP:20260419T081809
CREATED:20260325T191317Z
LAST-MODIFIED:20260325T191326Z
UID:3201-1777370400-1777402800@pghntma.org
SUMMARY:Apprenticeship Open House
DESCRIPTION:Join the Pittsburgh Chapter NTMA and BotsIQ for an Open House to learn more about our Apprenticeship & Pre-Apprenticeship Opportunities in Advanced Manufacturing. \n\n\n\nThe event includes: \n\n\n\n\nA tour of the BotsIQ Training & Education Center.\n\n\n\nPresentations about Apprenticeship and Pre-Apprenticeship\, alternating every hour.\n\n\n\nDemonstrations & activities\n\n\n\nDoor Prizes\n\n\n\nAnd more!\n\n\n\n\nRegistration is required.
URL:https://pghntma.org/happening/apprenticeship-open-house/
LOCATION:BotsIQ Training & Education Center\, 100 S. Jackson Avenue\, 2nd Floor\, Pittsburgh\, Pennsylvania\, 15202\, United States
END:VEVENT
END:VCALENDAR