BEGIN:VCALENDAR
VERSION:2.0
PRODID:-//PGH NTMA - ECPv6.15.20//NONSGML v1.0//EN
CALSCALE:GREGORIAN
METHOD:PUBLISH
X-WR-CALNAME:PGH NTMA
X-ORIGINAL-URL:https://pghntma.org
X-WR-CALDESC:Events for PGH NTMA
REFRESH-INTERVAL;VALUE=DURATION:PT1H
X-Robots-Tag:noindex
X-PUBLISHED-TTL:PT1H
BEGIN:VTIMEZONE
TZID:America/New_York
BEGIN:DAYLIGHT
TZOFFSETFROM:-0500
TZOFFSETTO:-0400
TZNAME:EDT
DTSTART:20250309T070000
END:DAYLIGHT
BEGIN:STANDARD
TZOFFSETFROM:-0400
TZOFFSETTO:-0500
TZNAME:EST
DTSTART:20251102T060000
END:STANDARD
BEGIN:DAYLIGHT
TZOFFSETFROM:-0500
TZOFFSETTO:-0400
TZNAME:EDT
DTSTART:20260308T070000
END:DAYLIGHT
BEGIN:STANDARD
TZOFFSETFROM:-0400
TZOFFSETTO:-0500
TZNAME:EST
DTSTART:20261101T060000
END:STANDARD
BEGIN:DAYLIGHT
TZOFFSETFROM:-0500
TZOFFSETTO:-0400
TZNAME:EDT
DTSTART:20270314T070000
END:DAYLIGHT
BEGIN:STANDARD
TZOFFSETFROM:-0400
TZOFFSETTO:-0500
TZNAME:EST
DTSTART:20271107T060000
END:STANDARD
END:VTIMEZONE
BEGIN:VEVENT
DTSTART;TZID=America/New_York:20260410T090000
DTEND;TZID=America/New_York:20260410T170000
DTSTAMP:20260419T083237
CREATED:20251022T203039Z
LAST-MODIFIED:20251022T203047Z
UID:3072-1775811600-1775840400@pghntma.org
SUMMARY:BotsIQ 2026 Finals Competition
DESCRIPTION:Join the Pittsburgh Chapter NTMA for its 21st season of BotsIQ’s Combat Robotics!  Watch as high school students battle for grand champion with their 15lb combat robot.  The event is free and open to the public. \n\n\n\nBotsIQ is the youth workforce development program of the Pittsburgh Chapter NTMA.  Created in 2005\, BotsIQ was created by industry to introduce youth to manufacturing careers.  The program started as a high school combat robotics program\, and grew to offer hands-on activities to youth from kindergarten through senior year!  Today\, more than 25\,000 students have participated in a BotsIQ program.
URL:https://pghntma.org/happening/botsiq-2026-finals-competition/
LOCATION:PennWest California Convocation Center\, 250 University Ave\, California\, Pennsylvania\, 15419
END:VEVENT
BEGIN:VEVENT
DTSTART;TZID=America/New_York:20260410T133000
DTEND;TZID=America/New_York:20260410T170000
DTSTAMP:20260419T083237
CREATED:20260105T182606Z
LAST-MODIFIED:20260105T182609Z
UID:3113-1775827800-1775840400@pghntma.org
SUMMARY:Haas Factory Outlet & BotsIQ VIP Networking Event
DESCRIPTION:Haas Factory Outlet & BotsIQ invite YOU to be a VIP at the 2026 BotsIQ Finals Competition.  Connect with fellow manufacturers\, educators\, and workforce development leaders as we celebrate the next generation of skilled talent. Stop by to see how programs like BotsIQ are shaping the future of manufacturing. \n\n\n\nSchedule of Events:  \n\n\n\n\n1:30PM – Tour the Pits and Meet the Students\n\n\n\n2:00 – 5:00PM – Networking Happy Hour – President’s Suite\n\n\n\n\nRegistration is required.
URL:https://pghntma.org/happening/haas-factory-outlet-botsiq-vip-networking-event/
LOCATION:PennWest California Convocation Center\, 250 University Ave\, California\, Pennsylvania\, 15419
END:VEVENT
END:VCALENDAR