BEGIN:VCALENDAR
VERSION:2.0
PRODID:-//PGH NTMA - ECPv6.15.20//NONSGML v1.0//EN
CALSCALE:GREGORIAN
METHOD:PUBLISH
X-WR-CALNAME:PGH NTMA
X-ORIGINAL-URL:https://pghntma.org
X-WR-CALDESC:Events for PGH NTMA
REFRESH-INTERVAL;VALUE=DURATION:PT1H
X-Robots-Tag:noindex
X-PUBLISHED-TTL:PT1H
BEGIN:VTIMEZONE
TZID:America/New_York
BEGIN:DAYLIGHT
TZOFFSETFROM:-0500
TZOFFSETTO:-0400
TZNAME:EDT
DTSTART:20250309T070000
END:DAYLIGHT
BEGIN:STANDARD
TZOFFSETFROM:-0400
TZOFFSETTO:-0500
TZNAME:EST
DTSTART:20251102T060000
END:STANDARD
BEGIN:DAYLIGHT
TZOFFSETFROM:-0500
TZOFFSETTO:-0400
TZNAME:EDT
DTSTART:20260308T070000
END:DAYLIGHT
BEGIN:STANDARD
TZOFFSETFROM:-0400
TZOFFSETTO:-0500
TZNAME:EST
DTSTART:20261101T060000
END:STANDARD
BEGIN:DAYLIGHT
TZOFFSETFROM:-0500
TZOFFSETTO:-0400
TZNAME:EDT
DTSTART:20270314T070000
END:DAYLIGHT
BEGIN:STANDARD
TZOFFSETFROM:-0400
TZOFFSETTO:-0500
TZNAME:EST
DTSTART:20271107T060000
END:STANDARD
END:VTIMEZONE
BEGIN:VEVENT
DTSTART;TZID=America/New_York:20260121T080000
DTEND;TZID=America/New_York:20260121T110000
DTSTAMP:20260419T131431
CREATED:20260107T163908Z
LAST-MODIFIED:20260107T163911Z
UID:3127-1768982400-1768993200@pghntma.org
SUMMARY:Pitt IEE: Hit IT!: A tech startup story & 7 rules for entrepreneurs with Chris Allison
DESCRIPTION:For 16 years\, Chris led Tollgrade Communications from a very small technology start-up to a NASDAQ-listed company whose market capitalization reached $2 billion. But that doesn’t begin to tell the story of all the roadblocks\, hurdles\, and challenges his scrappy management team had to overcome to help bring broadband technology to the masses and kill dial-up internet access once and for all. \n\n\n\n5 spots for NTMA members at all IEE Educational programs and networking events are reserved.  To claim your spot\, contact Tara Gerek directly at tgerek@innovation.pitt.edu.
URL:https://pghntma.org/happening/pitt-iee-hit-it-a-tech-startup-story-7-rules-for-entrepreneurs-with-chris-allison/
LOCATION:Duquesne Club\, 325 6th Ave.\, Pittsburgh\, Pennsylvania\, 15222\, United States
END:VEVENT
END:VCALENDAR