BEGIN:VCALENDAR
VERSION:2.0
PRODID:-//PGH NTMA - ECPv6.15.20//NONSGML v1.0//EN
CALSCALE:GREGORIAN
METHOD:PUBLISH
X-ORIGINAL-URL:https://pghntma.org
X-WR-CALDESC:Events for PGH NTMA
REFRESH-INTERVAL;VALUE=DURATION:PT1H
X-Robots-Tag:noindex
X-PUBLISHED-TTL:PT1H
BEGIN:VTIMEZONE
TZID:America/New_York
BEGIN:DAYLIGHT
TZOFFSETFROM:-0500
TZOFFSETTO:-0400
TZNAME:EDT
DTSTART:20240310T070000
END:DAYLIGHT
BEGIN:STANDARD
TZOFFSETFROM:-0400
TZOFFSETTO:-0500
TZNAME:EST
DTSTART:20241103T060000
END:STANDARD
BEGIN:DAYLIGHT
TZOFFSETFROM:-0500
TZOFFSETTO:-0400
TZNAME:EDT
DTSTART:20250309T070000
END:DAYLIGHT
BEGIN:STANDARD
TZOFFSETFROM:-0400
TZOFFSETTO:-0500
TZNAME:EST
DTSTART:20251102T060000
END:STANDARD
BEGIN:DAYLIGHT
TZOFFSETFROM:-0500
TZOFFSETTO:-0400
TZNAME:EDT
DTSTART:20260308T070000
END:DAYLIGHT
BEGIN:STANDARD
TZOFFSETFROM:-0400
TZOFFSETTO:-0500
TZNAME:EST
DTSTART:20261101T060000
END:STANDARD
END:VTIMEZONE
BEGIN:VEVENT
DTSTART;TZID=America/New_York:20251218T110000
DTEND;TZID=America/New_York:20251218T114500
DTSTAMP:20260419T143438
CREATED:20251215T115409Z
LAST-MODIFIED:20251215T115412Z
UID:3105-1766055600-1766058300@pghntma.org
SUMMARY:Webinar: Workforce Agility in Uncertain Times: Lessons from the Factory Floor
DESCRIPTION:Join Catalyst Connection for this webinar.  Registration is required.  \n\n\n\nManufacturing leaders are under pressure to do more with fewer hands while navigating turnover\, compliance risk\, and rising production demands. In this session\, we’ll explore how small and mid-sized manufacturers are building resilience through smarter training and digitized frontline operations. You’ll learn how modern AI tools can fast-track your digital transformation\, turning existing videos and documents into visual\, step-by-step guides with just a few clicks. We’ll share stories from manufacturers who cut onboarding time by 60% and reduced rework\, without adding headcount.
URL:https://pghntma.org/happening/webinar-workforce-agility-in-uncertain-times-lessons-from-the-factory-floor/
LOCATION:Pennsylvania
END:VEVENT
END:VCALENDAR